BEGIN:VCALENDAR
VERSION:2.0
PRODID:-//Tokyo River Friends - ECPv6.13.2.1//NONSGML v1.0//EN
CALSCALE:GREGORIAN
METHOD:PUBLISH
X-ORIGINAL-URL:https://www.tokyoriverfriends.org
X-WR-CALDESC:Events for Tokyo River Friends
REFRESH-INTERVAL;VALUE=DURATION:PT1H
X-Robots-Tag:noindex
X-PUBLISHED-TTL:PT1H
BEGIN:VTIMEZONE
TZID:Asia/Tokyo
BEGIN:STANDARD
TZOFFSETFROM:+0900
TZOFFSETTO:+0900
TZNAME:JST
DTSTART:20240101T000000
END:STANDARD
END:VTIMEZONE
BEGIN:VEVENT
DTSTART;TZID=Asia/Tokyo:20241208T130000
DTEND;TZID=Asia/Tokyo:20241208T170000
DTSTAMP:20260423T213453
CREATED:20190117T012135Z
LAST-MODIFIED:20241130T000836Z
UID:12042-1733662800-1733677200@www.tokyoriverfriends.org
SUMMARY:Arakawa River Clean Up (NISHI KASAI)
DESCRIPTION:CHEDULE \nGather at NISHI KASAI Station: 13:00\nGather riverside 13:30\nFinishing up: 17:00 \nRIVER CLEAN UP \nGather at NISHI KASAI Station (Tozai Line) outside the only ticket gate\, and then go to the Arakawa River and pick up trash along the banks for about about 3 5 to 4 hours with a break in the middle \nWHAT TO BRING \nWear old clothing that you do not mind getting dirty\, and please wear long pants. Bare legs are not recommended because they can easily get cut from objects like cut river reeds. Also\, a hat is recommended\, especially during the summer months\, and please bring lots of liquids to drink. Bringing gloves is also recommended but we usually have some extra pairs available to loan out. \nADDITIONAL INFO: \nIf you come late\, it will be about a 25 min. walk to our location on the island under the elevated C2 highway walking under the Tozai Line bridge to the end of the pods. Call my cell phone 090-1847-5075 if there are any problems finding us. \nRAIN: \nIn the event of light or medium rain this event will NOT be cancelled. Please bring rain gear and we will take shelter (under a bridge) until any downpours let up. In the event of heavy rain/strong winds (e.g.\, typhoon conditions) or lightning then the event will be cancelled (and usually moved to a different day). \nLet’s have fun enjoying our local nature while making it better at the same time.
URL:https://www.tokyoriverfriends.org/event/%e8%8d%92%e5%b7%9d%e3%81%ae%e3%82%af%e3%83%aa%e3%83%bc%e3%83%b3%e3%82%a2%e3%83%83%e3%83%97-2-2019-03-03-2024-12-01-2/
END:VEVENT
BEGIN:VEVENT
DTSTART;TZID=Asia/Tokyo:20241214T100000
DTEND;TZID=Asia/Tokyo:20241214T143000
DTSTAMP:20260423T213453
CREATED:20241027T122707Z
LAST-MODIFIED:20241202T125641Z
UID:12111-1734170400-1734186600@www.tokyoriverfriends.org
SUMMARY:Arakawa River Clean Up (Funabori)
DESCRIPTION:SCHEDULE\nGather at FUNABORI Station: 10:00\nGather riverside 10:30\nFinishing up: 14:30 \nRIVER CLEAN UP\nGather at FUNABORI Station (Shinjuku Line) outside the only ticket gate\, and then go to the Arakawa River and pick up trash along the banks for about about 3.5 to 4 hours with a break in the middle \nWHAT TO BRING\nWear old clothing that you do not mind getting dirty\, and please wear long pants. Bare legs are not recommended because they can easily get cut from objects like cut river reeds. Also\, a hat is recommended\, especially during the summer months\, and please bring lots of liquids to drink. Bringing gloves is also recommended but we usually have some extra pairs available to loan out. \nADDITIONAL INFO:\nIf you come late\, it will be about a 25 min. walk to our location on the island under the elevated C2 highway between the Kasaibashi Bridge iand the Shinjuku Line train bridge but much closer to the Shinjjuk Line Bridge. Call my cell phone 090-1847-5075 if there are any problems finding us. \nRAIN:\nIn the event of light or medium rain this event will NOT be cancelled. Please bring rain gear and we will take shelter (under a bridge) until any downpours let up. In the event of heavy rain/strong winds (e.g.\, typhoon conditions) or lightning then the event will be cancelled (and usually moved to a different day). \nLet’s have fun enjoying our local nature while making it better at the same time.
URL:https://www.tokyoriverfriends.org/event/arakawa-river-clean-up-funabori-40-2024-12-14/
END:VEVENT
BEGIN:VEVENT
DTSTART;TZID=Asia/Tokyo:20241221T130000
DTEND;TZID=Asia/Tokyo:20241221T170000
DTSTAMP:20260423T213453
CREATED:20190909T024702Z
LAST-MODIFIED:20241202T130032Z
UID:12103-1734786000-1734800400@www.tokyoriverfriends.org
SUMMARY:Edogawa River Clean Up (Myoden)
DESCRIPTION:SCHEDULE\nGather at Myoden Station: 13:00\nRiverside Meetup: 13:30\nReturn to station: 17:00 \nRIVER CLEAN UP\nGather at Myoden Station (Tozai Line) outside the only ticket gate\, and then go to the Edogawa River and pick up trash along the banks for about 3.5 to 4 hours \nINFO:\nIf you come late\, it will be about a 25-min walk to our location behind Clean Center (incineration plant) and the Clean Spa. First walk to the Myoden Bridge\, cross it\, and enter the rierside path on the embankement. Then head in the direction of Tokyo Bay until you see us along the water line. Also call my cell phone 090-1847-5075 if there are any problems finding us. \nRAIN:\nIn the event of light or medium rain this event will NOT be cancelled as we will move to and from the river by car and we can clean up under cover the bay front bridges as a Plan B as well as adjacent areas using rain ware. In the event of heavy rain/strong winds (e.g.\, typhoon conditions) or lightning then the event will be cancelled.\nLet’s have fun enjoying our local nature while making it better at the same time.
URL:https://www.tokyoriverfriends.org/event/edogawa-river-clean-up-nijikai-dinner-2024-12-21/
END:VEVENT
BEGIN:VEVENT
DTSTART;TZID=Asia/Tokyo:20241228T130000
DTEND;TZID=Asia/Tokyo:20241228T170000
DTSTAMP:20260423T213453
CREATED:20241202T125912Z
LAST-MODIFIED:20250103T131734Z
UID:12132-1735390800-1735405200@www.tokyoriverfriends.org
SUMMARY:Arakawa River Clean Up (Funabori)
DESCRIPTION:SCHEDULE\nGather at FUNABORI Station: 13:00\nGather riverside 13:30\nFinishing up: 17:00 \nRIVER CLEAN UP\nGather at FUNABORI Station (Shinjuku Line) outside the only ticket gate\, and then go to the Arakawa River and pick up trash along the banks for about about 3.5 to 4 hours with a break in the middle \nWHAT TO BRING\nWear old clothing that you do not mind getting dirty\, and please wear long pants. Bare legs are not recommended because they can easily get cut from objects like cut river reeds. Also\, a hat is recommended\, especially during the summer months\, and please bring lots of liquids to drink. Bringing gloves is also recommended but we usually have some extra pairs available to loan out. \nADDITIONAL INFO:\nIf you come late\, it will be about a 25 min. walk to our location on the island under the elevated C2 highway between the Kasaibashi Bridge iand the Shinjuku Line train bridge but much closer to the Shinjjuk Line Bridge. Call my cell phone 090-1847-5075 if there are any problems finding us. \nRAIN:\nIn the event of light or medium rain this event will NOT be cancelled. Please bring rain gear and we will take shelter (under a bridge) until any downpours let up. In the event of heavy rain/strong winds (e.g.\, typhoon conditions) or lightning then the event will be cancelled (and usually moved to a different day). \nLet’s have fun enjoying our local nature while making it better at the same time.
URL:https://www.tokyoriverfriends.org/event/arakawa-river-clean-up-funabori-44/
END:VEVENT
END:VCALENDAR